BEGIN:VCALENDAR
VERSION:2.0
PRODID:-//Cafe BOHEMIA ｜カフェボヘミア - ECPv6.15.14//NONSGML v1.0//EN
CALSCALE:GREGORIAN
METHOD:PUBLISH
X-ORIGINAL-URL:https://www.udagawacafe.com/cafe-bohemia/en
X-WR-CALDESC:Events for Cafe BOHEMIA ｜カフェボヘミア
REFRESH-INTERVAL;VALUE=DURATION:PT1H
X-Robots-Tag:noindex
X-PUBLISHED-TTL:PT1H
BEGIN:VTIMEZONE
TZID:Asia/Tokyo
BEGIN:STANDARD
TZOFFSETFROM:+0900
TZOFFSETTO:+0900
TZNAME:JST
DTSTART:20250101T000000
END:STANDARD
END:VTIMEZONE
BEGIN:VEVENT
DTSTART;VALUE=DATE:20260516
DTEND;VALUE=DATE:20260517
DTSTAMP:20260424T040217
CREATED:20260327T041313Z
LAST-MODIFIED:20260328T120851Z
UID:5856-1778889600-1778975999@www.udagawacafe.com
SUMMARY:Otani Hidemasa 社長35周年バースデーパーティー -帰ってきた奇人達の晩餐会-
DESCRIPTION:Otani Hidemasa 社長35周年バースデーパーティー \n-帰ってきた奇人達の晩餐会- \n  \n2026/5/16(sat) @Café BOHEMIA (東京都渋谷区宇田川町36-22 ノア渋谷パートⅡ) \nOPEN 19:00 / CLOSE 25:00 \nENTRANCE: ¥10\,000 with Free Drink & Buffet \n★来場者特典として新刊著書『異才 大谷秀政の全仕事』をプレゼント！ \n予約制 (当日払い、現金・クレジット可) \n予約フォーム↓ \nhttps://docs.google.com/forms/d/e/1FAIpQLSdQbgh_MO4mhglULLs17xWMemYuVkajlRwWyk_fQnLhB-1M9w/viewform?usp=dialog \n  \n司会: マダム・レジーヌ \n出演: 「おいおい教」教祖:おい師 / MECAV / Shibari HIBIKI & Model zaqi / 絹靴下のPiPPi / Miss CABARETTA / 中村インディア / MiWA ROCK / Lune Glitter / 綾小路 翔(氣志團) / ひでつう AKA HD2 / KenKen(RIZE) / 前川真悟(かりゆし58)
URL:https://www.udagawacafe.com/cafe-bohemia/en/event/otani-hidemasa-%e7%a4%be%e9%95%b735%e5%91%a8%e5%b9%b4%e3%83%90%e3%83%bc%e3%82%b9%e3%83%87%e3%83%bc%e3%83%91%e3%83%bc%e3%83%86%e3%82%a3%e3%83%bc-%e5%b8%b0%e3%81%a3%e3%81%a6%e3%81%8d%e3%81%9f/
CATEGORIES:party
ATTACH;FMTTYPE=image/jpeg:https://www.udagawacafe.com/cafe-bohemia/wp-content/uploads/sites/22/2026/03/BDP1.jpg
END:VEVENT
BEGIN:VEVENT
DTSTART;VALUE=DATE:20260609
DTEND;VALUE=DATE:20260610
DTSTAMP:20260424T040217
CREATED:20260421T100846Z
LAST-MODIFIED:20260421T100846Z
UID:5874-1780963200-1781049599@www.udagawacafe.com
SUMMARY:Nadya Studio Student Show
DESCRIPTION:
URL:https://www.udagawacafe.com/cafe-bohemia/en/event/nadya-studio-student-show/
CATEGORIES:bellydance
ATTACH;FMTTYPE=image/jpeg:https://www.udagawacafe.com/cafe-bohemia/wp-content/uploads/sites/22/2026/04/S__53682180.jpg
END:VEVENT
END:VCALENDAR